BEGIN:VCALENDAR
VERSION:2.0
PRODID:-//Irish Venture Capital &amp; Private Equity Association - ECPv6.15.17.1//NONSGML v1.0//EN
CALSCALE:GREGORIAN
METHOD:PUBLISH
X-WR-CALNAME:Irish Venture Capital &amp; Private Equity Association
X-ORIGINAL-URL:https://www.ivca.ie
X-WR-CALDESC:Events for Irish Venture Capital &amp; Private Equity Association
REFRESH-INTERVAL;VALUE=DURATION:PT1H
X-Robots-Tag:noindex
X-PUBLISHED-TTL:PT1H
BEGIN:VTIMEZONE
TZID:UTC
BEGIN:STANDARD
TZOFFSETFROM:+0000
TZOFFSETTO:+0000
TZNAME:UTC
DTSTART:20240101T000000
END:STANDARD
END:VTIMEZONE
BEGIN:VEVENT
DTSTART;VALUE=DATE:20250320
DTEND;VALUE=DATE:20250321
DTSTAMP:20260425T165623
CREATED:20250314T100658Z
LAST-MODIFIED:20250314T100729Z
UID:1562-1742428800-1742515199@www.ivca.ie
SUMMARY:Private Equity Working Group
DESCRIPTION:
URL:https://www.ivca.ie/event/private-equity-working-group/
END:VEVENT
BEGIN:VEVENT
DTSTART;VALUE=DATE:20250320
DTEND;VALUE=DATE:20250321
DTSTAMP:20260425T165623
CREATED:20250314T100824Z
LAST-MODIFIED:20250314T100824Z
UID:1564-1742428800-1742515199@www.ivca.ie
SUMMARY:CFO Briefing
DESCRIPTION:
URL:https://www.ivca.ie/event/cfo-briefing/
END:VEVENT
END:VCALENDAR