BEGIN:VCALENDAR
VERSION:2.0
PRODID:-//Irish Venture Capital &amp; Private Equity Association - ECPv6.15.17.1//NONSGML v1.0//EN
CALSCALE:GREGORIAN
METHOD:PUBLISH
X-WR-CALNAME:Irish Venture Capital &amp; Private Equity Association
X-ORIGINAL-URL:https://www.ivca.ie
X-WR-CALDESC:Events for Irish Venture Capital &amp; Private Equity Association
REFRESH-INTERVAL;VALUE=DURATION:PT1H
X-Robots-Tag:noindex
X-PUBLISHED-TTL:PT1H
BEGIN:VTIMEZONE
TZID:Europe/Dublin
BEGIN:DAYLIGHT
TZOFFSETFROM:+0000
TZOFFSETTO:+0100
TZNAME:IST
DTSTART:20250330T010000
END:DAYLIGHT
BEGIN:STANDARD
TZOFFSETFROM:+0100
TZOFFSETTO:+0000
TZNAME:GMT
DTSTART:20251026T010000
END:STANDARD
BEGIN:DAYLIGHT
TZOFFSETFROM:+0000
TZOFFSETTO:+0100
TZNAME:IST
DTSTART:20260329T010000
END:DAYLIGHT
BEGIN:STANDARD
TZOFFSETFROM:+0100
TZOFFSETTO:+0000
TZNAME:GMT
DTSTART:20261025T010000
END:STANDARD
BEGIN:DAYLIGHT
TZOFFSETFROM:+0000
TZOFFSETTO:+0100
TZNAME:IST
DTSTART:20270328T010000
END:DAYLIGHT
BEGIN:STANDARD
TZOFFSETFROM:+0100
TZOFFSETTO:+0000
TZNAME:GMT
DTSTART:20271031T010000
END:STANDARD
END:VTIMEZONE
BEGIN:VEVENT
DTSTART;VALUE=DATE:20260430
DTEND;VALUE=DATE:20260501
DTSTAMP:20260425T152553
CREATED:20260205T125239Z
LAST-MODIFIED:20260205T125239Z
UID:3090-1777507200-1777593599@www.ivca.ie
SUMMARY:CFO Working Group – 30 April 2026
DESCRIPTION:
URL:https://www.ivca.ie/event/cfo-working-group-30-april-2026/
END:VEVENT
BEGIN:VEVENT
DTSTART;VALUE=DATE:20260501
DTEND;VALUE=DATE:20260601
DTSTAMP:20260425T152553
CREATED:20260205T125307Z
LAST-MODIFIED:20260205T125518Z
UID:3092-1777593600-1780271999@www.ivca.ie
SUMMARY:IVCA Council Meeting – TBC
DESCRIPTION:
URL:https://www.ivca.ie/event/ivca-council-meeting-tbc/
END:VEVENT
BEGIN:VEVENT
DTSTART;VALUE=DATE:20260601
DTEND;VALUE=DATE:20260602
DTSTAMP:20260425T152553
CREATED:20260205T125617Z
LAST-MODIFIED:20260205T125617Z
UID:3098-1780272000-1780358399@www.ivca.ie
SUMMARY:Legal & Tax Committee – 1 July 2026
DESCRIPTION:
URL:https://www.ivca.ie/event/legal-tax-committee-1-july-2026/
END:VEVENT
BEGIN:VEVENT
DTSTART;VALUE=DATE:20260618
DTEND;VALUE=DATE:20260619
DTSTAMP:20260425T152553
CREATED:20260205T125542Z
LAST-MODIFIED:20260205T125542Z
UID:3096-1781740800-1781827199@www.ivca.ie
SUMMARY:AGM\, & Members Summer Drinks – 18 June 2026
DESCRIPTION:
URL:https://www.ivca.ie/event/agm-members-summer-drinks-18-june-2026/
END:VEVENT
BEGIN:VEVENT
DTSTART;VALUE=DATE:20260701
DTEND;VALUE=DATE:20260702
DTSTAMP:20260425T152553
CREATED:20260205T125643Z
LAST-MODIFIED:20260205T125643Z
UID:3101-1782864000-1782950399@www.ivca.ie
SUMMARY:Private Equity Working Group – 1 July 2026
DESCRIPTION:
URL:https://www.ivca.ie/event/private-equity-working-group-1-july-2026/
END:VEVENT
END:VCALENDAR