BEGIN:VCALENDAR
VERSION:2.0
PRODID:-//Irish Venture Capital &amp; Private Equity Association - ECPv6.15.17.1//NONSGML v1.0//EN
CALSCALE:GREGORIAN
METHOD:PUBLISH
X-WR-CALNAME:Irish Venture Capital &amp; Private Equity Association
X-ORIGINAL-URL:https://www.ivca.ie
X-WR-CALDESC:Events for Irish Venture Capital &amp; Private Equity Association
REFRESH-INTERVAL;VALUE=DURATION:PT1H
X-Robots-Tag:noindex
X-PUBLISHED-TTL:PT1H
BEGIN:VTIMEZONE
TZID:UTC
BEGIN:STANDARD
TZOFFSETFROM:+0000
TZOFFSETTO:+0000
TZNAME:UTC
DTSTART:20240101T000000
END:STANDARD
END:VTIMEZONE
BEGIN:VEVENT
DTSTART;VALUE=DATE:20251126
DTEND;VALUE=DATE:20251127
DTSTAMP:20260425T023458
CREATED:20250314T101416Z
LAST-MODIFIED:20250821T102503Z
UID:1570-1764115200-1764201599@www.ivca.ie
SUMMARY:IVCA Council Meeting & Members Christmas Drinks
DESCRIPTION:
URL:https://www.ivca.ie/event/ivca-council-meeting-members-christmas-drinks/
ATTACH;FMTTYPE=image/jpeg:https://www.ivca.ie/wp-content/uploads/2021/12/IVCA_logo-2019.jpg
END:VEVENT
END:VCALENDAR